{
 "currentVersion": 10.22,
 "serviceDescription": "",
 "mapName": "Layers",
 "description": "",
 "copyrightText": "",
 "supportsDynamicLayers": false,
 "layers": [
  {
   "id": 0,
   "name": "Barangay Boundary",
   "parentLayerId": -1,
   "defaultVisibility": true,
   "subLayerIds": null,
   "minScale": 100000,
   "maxScale": 35000
  },
  {
   "id": 1,
   "name": "Annotation_selection_2Anno",
   "parentLayerId": -1,
   "defaultVisibility": true,
   "subLayerIds": [
    2
   ],
   "minScale": 30000,
   "maxScale": 24000
  },
  {
   "id": 2,
   "name": "Default",
   "parentLayerId": 1,
   "defaultVisibility": true,
   "subLayerIds": null,
   "minScale": 0,
   "maxScale": 0
  },
  {
   "id": 3,
   "name": "Annotation_selectionAnno",
   "parentLayerId": -1,
   "defaultVisibility": true,
   "subLayerIds": [
    4
   ],
   "minScale": 30000,
   "maxScale": 24000
  },
  {
   "id": 4,
   "name": "Default",
   "parentLayerId": 3,
   "defaultVisibility": true,
   "subLayerIds": null,
   "minScale": 0,
   "maxScale": 0
  },
  {
   "id": 5,
   "name": "CityAnnotation",
   "parentLayerId": -1,
   "defaultVisibility": true,
   "subLayerIds": [
    6
   ],
   "minScale": 0,
   "maxScale": 0
  },
  {
   "id": 6,
   "name": "Default",
   "parentLayerId": 5,
   "defaultVisibility": true,
   "subLayerIds": null,
   "minScale": 0,
   "maxScale": 0
  },
  {
   "id": 7,
   "name": "City_Hall",
   "parentLayerId": -1,
   "defaultVisibility": true,
   "subLayerIds": null,
   "minScale": 10000,
   "maxScale": 1000
  },
  {
   "id": 8,
   "name": "City_Hall",
   "parentLayerId": -1,
   "defaultVisibility": true,
   "subLayerIds": null,
   "minScale": 45000,
   "maxScale": 10001
  },
  {
   "id": 9,
   "name": "Sec",
   "parentLayerId": -1,
   "defaultVisibility": true,
   "subLayerIds": null,
   "minScale": 30000,
   "maxScale": 24000
  },
  {
   "id": 10,
   "name": "Secondary",
   "parentLayerId": -1,
   "defaultVisibility": true,
   "subLayerIds": null,
   "minScale": 30000,
   "maxScale": 24000
  },
  {
   "id": 11,
   "name": "Major",
   "parentLayerId": -1,
   "defaultVisibility": true,
   "subLayerIds": null,
   "minScale": 30000,
   "maxScale": 24000
  },
  {
   "id": 12,
   "name": "Level 19 - 1K",
   "parentLayerId": -1,
   "defaultVisibility": true,
   "subLayerIds": [
    13,
    14,
    15,
    16,
    17,
    19,
    21,
    22,
    23,
    24,
    25,
    26,
    27,
    28,
    29,
    30,
    31,
    32
   ],
   "minScale": 1600,
   "maxScale": 50
  },
  {
   "id": 13,
   "name": "GolfRoads",
   "parentLayerId": 12,
   "defaultVisibility": true,
   "subLayerIds": null,
   "minScale": 0,
   "maxScale": 0
  },
  {
   "id": 14,
   "name": "AddtlBldg_Project",
   "parentLayerId": 12,
   "defaultVisibility": true,
   "subLayerIds": null,
   "minScale": 0,
   "maxScale": 0
  },
  {
   "id": 15,
   "name": "PemboRoadAddtl_Project",
   "parentLayerId": 12,
   "defaultVisibility": true,
   "subLayerIds": null,
   "minScale": 0,
   "maxScale": 0
  },
  {
   "id": 16,
   "name": "Addtl_Pembo_Project",
   "parentLayerId": 12,
   "defaultVisibility": true,
   "subLayerIds": null,
   "minScale": 0,
   "maxScale": 0
  },
  {
   "id": 17,
   "name": "Landmark_Label_1KAnno",
   "parentLayerId": 12,
   "defaultVisibility": true,
   "subLayerIds": [
    18
   ],
   "minScale": 0,
   "maxScale": 0
  },
  {
   "id": 18,
   "name": "Landmarks",
   "parentLayerId": 17,
   "defaultVisibility": true,
   "subLayerIds": null,
   "minScale": 0,
   "maxScale": 0
  },
  {
   "id": 19,
   "name": "PointofInterest_Label_1KAnno",
   "parentLayerId": 12,
   "defaultVisibility": true,
   "subLayerIds": [
    20
   ],
   "minScale": 0,
   "maxScale": 0
  },
  {
   "id": 20,
   "name": "Point of Interest",
   "parentLayerId": 19,
   "defaultVisibility": true,
   "subLayerIds": null,
   "minScale": 0,
   "maxScale": 0
  },
  {
   "id": 21,
   "name": "Water_Label_1K",
   "parentLayerId": 12,
   "defaultVisibility": true,
   "subLayerIds": null,
   "minScale": 0,
   "maxScale": 0
  },
  {
   "id": 22,
   "name": "Neighborhood_Label_1K",
   "parentLayerId": 12,
   "defaultVisibility": true,
   "subLayerIds": null,
   "minScale": 0,
   "maxScale": 0
  },
  {
   "id": 23,
   "name": "Park_Label_1K",
   "parentLayerId": 12,
   "defaultVisibility": true,
   "subLayerIds": null,
   "minScale": 0,
   "maxScale": 0
  },
  {
   "id": 24,
   "name": "RoadCenterline_2K",
   "parentLayerId": 12,
   "defaultVisibility": true,
   "subLayerIds": null,
   "minScale": 0,
   "maxScale": 0
  },
  {
   "id": 25,
   "name": "RoadCenterline_LocalOutline_2K",
   "parentLayerId": 12,
   "defaultVisibility": true,
   "subLayerIds": null,
   "minScale": 0,
   "maxScale": 0
  },
  {
   "id": 26,
   "name": "metropolitan_manila_highway_",
   "parentLayerId": 12,
   "defaultVisibility": true,
   "subLayerIds": null,
   "minScale": 0,
   "maxScale": 0
  },
  {
   "id": 27,
   "name": "BGCBuildings",
   "parentLayerId": 12,
   "defaultVisibility": true,
   "subLayerIds": null,
   "minScale": 0,
   "maxScale": 0
  },
  {
   "id": 28,
   "name": "BuildingFootprint_1K",
   "parentLayerId": 12,
   "defaultVisibility": true,
   "subLayerIds": null,
   "minScale": 0,
   "maxScale": 0
  },
  {
   "id": 29,
   "name": "Rail_1K",
   "parentLayerId": 12,
   "defaultVisibility": true,
   "subLayerIds": null,
   "minScale": 0,
   "maxScale": 0
  },
  {
   "id": 30,
   "name": "AdministrativeBoundaryLine_1K",
   "parentLayerId": 12,
   "defaultVisibility": true,
   "subLayerIds": null,
   "minScale": 0,
   "maxScale": 0
  },
  {
   "id": 31,
   "name": "AdministrativeBoundaryLine_Ribbon_1K",
   "parentLayerId": 12,
   "defaultVisibility": true,
   "subLayerIds": null,
   "minScale": 0,
   "maxScale": 0
  },
  {
   "id": 32,
   "name": "Waterbody_1K",
   "parentLayerId": 12,
   "defaultVisibility": true,
   "subLayerIds": null,
   "minScale": 0,
   "maxScale": 0
  },
  {
   "id": 33,
   "name": "Level 18 - 2K",
   "parentLayerId": -1,
   "defaultVisibility": true,
   "subLayerIds": [
    34,
    35,
    36,
    37,
    39,
    41,
    44,
    45,
    46,
    54,
    55,
    56,
    57,
    58,
    59,
    60,
    61,
    62,
    63,
    64
   ],
   "minScale": 2500,
   "maxScale": 1601
  },
  {
   "id": 34,
   "name": "AddtlBldg_Project",
   "parentLayerId": 33,
   "defaultVisibility": true,
   "subLayerIds": null,
   "minScale": 0,
   "maxScale": 0
  },
  {
   "id": 35,
   "name": "PemboRoadAddtl_Project",
   "parentLayerId": 33,
   "defaultVisibility": true,
   "subLayerIds": null,
   "minScale": 2500,
   "maxScale": 1601
  },
  {
   "id": 36,
   "name": "Addtl_Pembo_Project",
   "parentLayerId": 33,
   "defaultVisibility": true,
   "subLayerIds": null,
   "minScale": 0,
   "maxScale": 0
  },
  {
   "id": 37,
   "name": "Landmark_Label_2KAnno",
   "parentLayerId": 33,
   "defaultVisibility": true,
   "subLayerIds": [
    38
   ],
   "minScale": 0,
   "maxScale": 0
  },
  {
   "id": 38,
   "name": "Landmarks",
   "parentLayerId": 37,
   "defaultVisibility": true,
   "subLayerIds": null,
   "minScale": 0,
   "maxScale": 0
  },
  {
   "id": 39,
   "name": "PointofInterest_Label_2KAnno",
   "parentLayerId": 33,
   "defaultVisibility": true,
   "subLayerIds": [
    40
   ],
   "minScale": 0,
   "maxScale": 0
  },
  {
   "id": 40,
   "name": "Point of Interest",
   "parentLayerId": 39,
   "defaultVisibility": true,
   "subLayerIds": null,
   "minScale": 0,
   "maxScale": 0
  },
  {
   "id": 41,
   "name": "Water_Label_2KAnno",
   "parentLayerId": 33,
   "defaultVisibility": true,
   "subLayerIds": [
    42,
    43
   ],
   "minScale": 0,
   "maxScale": 0
  },
  {
   "id": 42,
   "name": "Lake/Pond",
   "parentLayerId": 41,
   "defaultVisibility": true,
   "subLayerIds": null,
   "minScale": 0,
   "maxScale": 0
  },
  {
   "id": 43,
   "name": "Reservoir",
   "parentLayerId": 41,
   "defaultVisibility": true,
   "subLayerIds": null,
   "minScale": 0,
   "maxScale": 0
  },
  {
   "id": 44,
   "name": "Neighborhood_Label_2K",
   "parentLayerId": 33,
   "defaultVisibility": true,
   "subLayerIds": null,
   "minScale": 0,
   "maxScale": 0
  },
  {
   "id": 45,
   "name": "Park_Label_2K",
   "parentLayerId": 33,
   "defaultVisibility": true,
   "subLayerIds": null,
   "minScale": 0,
   "maxScale": 0
  },
  {
   "id": 46,
   "name": "RoadCenterline_2KAnno",
   "parentLayerId": 33,
   "defaultVisibility": true,
   "subLayerIds": [
    47,
    48,
    49,
    50,
    51,
    52,
    53
   ],
   "minScale": 0,
   "maxScale": 0
  },
  {
   "id": 47,
   "name": "LimitedAccess/Highway - Shield",
   "parentLayerId": 46,
   "defaultVisibility": true,
   "subLayerIds": null,
   "minScale": 0,
   "maxScale": 0
  },
  {
   "id": 48,
   "name": "MajorArterial - Shield",
   "parentLayerId": 46,
   "defaultVisibility": true,
   "subLayerIds": null,
   "minScale": 0,
   "maxScale": 0
  },
  {
   "id": 49,
   "name": "MinorArterial - Shield",
   "parentLayerId": 46,
   "defaultVisibility": true,
   "subLayerIds": null,
   "minScale": 0,
   "maxScale": 0
  },
  {
   "id": 50,
   "name": "MajorArterial - Fullname",
   "parentLayerId": 46,
   "defaultVisibility": true,
   "subLayerIds": null,
   "minScale": 0,
   "maxScale": 0
  },
  {
   "id": 51,
   "name": "MinorArterial - Fullname",
   "parentLayerId": 46,
   "defaultVisibility": true,
   "subLayerIds": null,
   "minScale": 0,
   "maxScale": 0
  },
  {
   "id": 52,
   "name": "Local - Fullname",
   "parentLayerId": 46,
   "defaultVisibility": true,
   "subLayerIds": null,
   "minScale": 0,
   "maxScale": 0
  },
  {
   "id": 53,
   "name": "LimitedAccess/Highway - E Road Shield",
   "parentLayerId": 46,
   "defaultVisibility": true,
   "subLayerIds": null,
   "minScale": 0,
   "maxScale": 0
  },
  {
   "id": 54,
   "name": "metropolitan_manila_highway_",
   "parentLayerId": 33,
   "defaultVisibility": true,
   "subLayerIds": null,
   "minScale": 0,
   "maxScale": 0
  },
  {
   "id": 55,
   "name": "RoadCenterline_2K",
   "parentLayerId": 33,
   "defaultVisibility": true,
   "subLayerIds": null,
   "minScale": 0,
   "maxScale": 0
  },
  {
   "id": 56,
   "name": "BGCBuildings",
   "parentLayerId": 33,
   "defaultVisibility": true,
   "subLayerIds": null,
   "minScale": 0,
   "maxScale": 0
  },
  {
   "id": 57,
   "name": "BuildingFootprint_2K",
   "parentLayerId": 33,
   "defaultVisibility": true,
   "subLayerIds": null,
   "minScale": 0,
   "maxScale": 0
  },
  {
   "id": 58,
   "name": "Rail_2K",
   "parentLayerId": 33,
   "defaultVisibility": true,
   "subLayerIds": null,
   "minScale": 0,
   "maxScale": 0
  },
  {
   "id": 59,
   "name": "AdministrativeBoundaryLine_2K",
   "parentLayerId": 33,
   "defaultVisibility": true,
   "subLayerIds": null,
   "minScale": 0,
   "maxScale": 0
  },
  {
   "id": 60,
   "name": "AdministrativeBoundaryLine_Ribbon_2K",
   "parentLayerId": 33,
   "defaultVisibility": true,
   "subLayerIds": null,
   "minScale": 0,
   "maxScale": 0
  },
  {
   "id": 61,
   "name": "Waterbody_2K",
   "parentLayerId": 33,
   "defaultVisibility": true,
   "subLayerIds": null,
   "minScale": 0,
   "maxScale": 0
  },
  {
   "id": 62,
   "name": "Waterline_2K",
   "parentLayerId": 33,
   "defaultVisibility": true,
   "subLayerIds": null,
   "minScale": 0,
   "maxScale": 0
  },
  {
   "id": 63,
   "name": "GolfRoads",
   "parentLayerId": 33,
   "defaultVisibility": true,
   "subLayerIds": null,
   "minScale": 0,
   "maxScale": 0
  },
  {
   "id": 64,
   "name": "RoadCenterline_LocalOutline_2K",
   "parentLayerId": 33,
   "defaultVisibility": true,
   "subLayerIds": null,
   "minScale": 0,
   "maxScale": 0
  },
  {
   "id": 65,
   "name": "Level 17 - 4.5K",
   "parentLayerId": -1,
   "defaultVisibility": true,
   "subLayerIds": [
    66,
    67,
    68,
    69,
    70,
    72,
    73,
    74,
    75,
    76,
    77,
    78,
    79,
    80,
    81,
    82,
    83,
    84,
    85
   ],
   "minScale": 5000,
   "maxScale": 2501
  },
  {
   "id": 66,
   "name": "AddtlBldg_Project",
   "parentLayerId": 65,
   "defaultVisibility": true,
   "subLayerIds": null,
   "minScale": 0,
   "maxScale": 0
  },
  {
   "id": 67,
   "name": "GolfRoads",
   "parentLayerId": 65,
   "defaultVisibility": true,
   "subLayerIds": null,
   "minScale": 0,
   "maxScale": 0
  },
  {
   "id": 68,
   "name": "PemboRoadAddtl_Project",
   "parentLayerId": 65,
   "defaultVisibility": true,
   "subLayerIds": null,
   "minScale": 0,
   "maxScale": 0
  },
  {
   "id": 69,
   "name": "Addtl_Pembo_Project",
   "parentLayerId": 65,
   "defaultVisibility": true,
   "subLayerIds": null,
   "minScale": 0,
   "maxScale": 0
  },
  {
   "id": 70,
   "name": "KAnno",
   "parentLayerId": 65,
   "defaultVisibility": true,
   "subLayerIds": [
    71
   ],
   "minScale": 0,
   "maxScale": 0
  },
  {
   "id": 71,
   "name": "Landmarks",
   "parentLayerId": 70,
   "defaultVisibility": true,
   "subLayerIds": null,
   "minScale": 0,
   "maxScale": 0
  },
  {
   "id": 72,
   "name": "PointofInterest_Label_4.5K",
   "parentLayerId": 65,
   "defaultVisibility": true,
   "subLayerIds": null,
   "minScale": 0,
   "maxScale": 0
  },
  {
   "id": 73,
   "name": "Water_Label_4.5K",
   "parentLayerId": 65,
   "defaultVisibility": true,
   "subLayerIds": null,
   "minScale": 0,
   "maxScale": 0
  },
  {
   "id": 74,
   "name": "Neighborhood_Label_4.5K",
   "parentLayerId": 65,
   "defaultVisibility": true,
   "subLayerIds": null,
   "minScale": 0,
   "maxScale": 0
  },
  {
   "id": 75,
   "name": "Park_Label_4.5K",
   "parentLayerId": 65,
   "defaultVisibility": true,
   "subLayerIds": null,
   "minScale": 0,
   "maxScale": 0
  },
  {
   "id": 76,
   "name": "metropolitan_manila_highway_",
   "parentLayerId": 65,
   "defaultVisibility": true,
   "subLayerIds": null,
   "minScale": 0,
   "maxScale": 0
  },
  {
   "id": 77,
   "name": "RoadCenterline_4.5K",
   "parentLayerId": 65,
   "defaultVisibility": true,
   "subLayerIds": null,
   "minScale": 0,
   "maxScale": 0
  },
  {
   "id": 78,
   "name": "BGCBuildings",
   "parentLayerId": 65,
   "defaultVisibility": true,
   "subLayerIds": null,
   "minScale": 0,
   "maxScale": 0
  },
  {
   "id": 79,
   "name": "BuildingFootprint_4.5K",
   "parentLayerId": 65,
   "defaultVisibility": true,
   "subLayerIds": null,
   "minScale": 0,
   "maxScale": 0
  },
  {
   "id": 80,
   "name": "BuildingFootprintDropShadow_4.5K",
   "parentLayerId": 65,
   "defaultVisibility": true,
   "subLayerIds": null,
   "minScale": 0,
   "maxScale": 0
  },
  {
   "id": 81,
   "name": "Rail_4.5K",
   "parentLayerId": 65,
   "defaultVisibility": true,
   "subLayerIds": null,
   "minScale": 0,
   "maxScale": 0
  },
  {
   "id": 82,
   "name": "AdministrativeBoundaryLine_4.5K",
   "parentLayerId": 65,
   "defaultVisibility": true,
   "subLayerIds": null,
   "minScale": 0,
   "maxScale": 0
  },
  {
   "id": 83,
   "name": "AdministrativeBoundaryLine_Ribbon_4.5K",
   "parentLayerId": 65,
   "defaultVisibility": true,
   "subLayerIds": null,
   "minScale": 0,
   "maxScale": 0
  },
  {
   "id": 84,
   "name": "Waterbody_4.5K",
   "parentLayerId": 65,
   "defaultVisibility": true,
   "subLayerIds": null,
   "minScale": 0,
   "maxScale": 0
  },
  {
   "id": 85,
   "name": "Waterline_4.5K",
   "parentLayerId": 65,
   "defaultVisibility": true,
   "subLayerIds": null,
   "minScale": 0,
   "maxScale": 0
  },
  {
   "id": 86,
   "name": "Level 16 - 9K",
   "parentLayerId": -1,
   "defaultVisibility": true,
   "subLayerIds": [
    87,
    88,
    89,
    90,
    92,
    95,
    103,
    104,
    105,
    106,
    107,
    108,
    109
   ],
   "minScale": 9001,
   "maxScale": 5001
  },
  {
   "id": 87,
   "name": "AddtlBldg_Project",
   "parentLayerId": 86,
   "defaultVisibility": true,
   "subLayerIds": null,
   "minScale": 0,
   "maxScale": 0
  },
  {
   "id": 88,
   "name": "GolfRoads",
   "parentLayerId": 86,
   "defaultVisibility": true,
   "subLayerIds": null,
   "minScale": 0,
   "maxScale": 0
  },
  {
   "id": 89,
   "name": "PemboRoadAddtl_Project",
   "parentLayerId": 86,
   "defaultVisibility": true,
   "subLayerIds": null,
   "minScale": 0,
   "maxScale": 0
  },
  {
   "id": 90,
   "name": "PointofInterest_Label_9KAnno",
   "parentLayerId": 86,
   "defaultVisibility": true,
   "subLayerIds": [
    91
   ],
   "minScale": 0,
   "maxScale": 0
  },
  {
   "id": 91,
   "name": "Point Of Interest",
   "parentLayerId": 90,
   "defaultVisibility": true,
   "subLayerIds": null,
   "minScale": 0,
   "maxScale": 0
  },
  {
   "id": 92,
   "name": "Water_Label_9KAnno",
   "parentLayerId": 86,
   "defaultVisibility": true,
   "subLayerIds": [
    93,
    94
   ],
   "minScale": 0,
   "maxScale": 0
  },
  {
   "id": 93,
   "name": "Lake/Pond",
   "parentLayerId": 92,
   "defaultVisibility": true,
   "subLayerIds": null,
   "minScale": 0,
   "maxScale": 0
  },
  {
   "id": 94,
   "name": "Reservoir",
   "parentLayerId": 92,
   "defaultVisibility": true,
   "subLayerIds": null,
   "minScale": 0,
   "maxScale": 0
  },
  {
   "id": 95,
   "name": "RoadCenterline_9KAnno",
   "parentLayerId": 86,
   "defaultVisibility": true,
   "subLayerIds": [
    96,
    97,
    98,
    99,
    100,
    101,
    102
   ],
   "minScale": 0,
   "maxScale": 0
  },
  {
   "id": 96,
   "name": "LimitedAccess/Highway - Shield",
   "parentLayerId": 95,
   "defaultVisibility": true,
   "subLayerIds": null,
   "minScale": 0,
   "maxScale": 0
  },
  {
   "id": 97,
   "name": "MajorArterial - Shield",
   "parentLayerId": 95,
   "defaultVisibility": true,
   "subLayerIds": null,
   "minScale": 0,
   "maxScale": 0
  },
  {
   "id": 98,
   "name": "MinorArterial - Shield",
   "parentLayerId": 95,
   "defaultVisibility": true,
   "subLayerIds": null,
   "minScale": 0,
   "maxScale": 0
  },
  {
   "id": 99,
   "name": "MajorArterial - Fullname",
   "parentLayerId": 95,
   "defaultVisibility": true,
   "subLayerIds": null,
   "minScale": 0,
   "maxScale": 0
  },
  {
   "id": 100,
   "name": "MinorArterial - Fullname",
   "parentLayerId": 95,
   "defaultVisibility": true,
   "subLayerIds": null,
   "minScale": 0,
   "maxScale": 0
  },
  {
   "id": 101,
   "name": "Local - Fullname",
   "parentLayerId": 95,
   "defaultVisibility": true,
   "subLayerIds": null,
   "minScale": 0,
   "maxScale": 0
  },
  {
   "id": 102,
   "name": "LimitedAccess/Highway - E Road Shield",
   "parentLayerId": 95,
   "defaultVisibility": true,
   "subLayerIds": null,
   "minScale": 0,
   "maxScale": 0
  },
  {
   "id": 103,
   "name": "metropolitan_manila_highway_",
   "parentLayerId": 86,
   "defaultVisibility": true,
   "subLayerIds": null,
   "minScale": 0,
   "maxScale": 0
  },
  {
   "id": 104,
   "name": "Rail_9K",
   "parentLayerId": 86,
   "defaultVisibility": true,
   "subLayerIds": null,
   "minScale": 0,
   "maxScale": 0
  },
  {
   "id": 105,
   "name": "RoadCenterline_9K",
   "parentLayerId": 86,
   "defaultVisibility": true,
   "subLayerIds": null,
   "minScale": 0,
   "maxScale": 0
  },
  {
   "id": 106,
   "name": "BGCBuildings",
   "parentLayerId": 86,
   "defaultVisibility": true,
   "subLayerIds": null,
   "minScale": 0,
   "maxScale": 0
  },
  {
   "id": 107,
   "name": "BuildingFootprint_9K",
   "parentLayerId": 86,
   "defaultVisibility": true,
   "subLayerIds": null,
   "minScale": 0,
   "maxScale": 0
  },
  {
   "id": 108,
   "name": "Waterbody_9K",
   "parentLayerId": 86,
   "defaultVisibility": true,
   "subLayerIds": null,
   "minScale": 0,
   "maxScale": 0
  },
  {
   "id": 109,
   "name": "Waterline_9K",
   "parentLayerId": 86,
   "defaultVisibility": true,
   "subLayerIds": null,
   "minScale": 0,
   "maxScale": 0
  },
  {
   "id": 110,
   "name": "Level 15 - 15k",
   "parentLayerId": -1,
   "defaultVisibility": true,
   "subLayerIds": [
    111,
    112,
    113,
    114,
    115,
    116,
    117
   ],
   "minScale": 15001,
   "maxScale": 9000
  },
  {
   "id": 111,
   "name": "GolfRoads",
   "parentLayerId": 110,
   "defaultVisibility": true,
   "subLayerIds": null,
   "minScale": 0,
   "maxScale": 0
  },
  {
   "id": 112,
   "name": "PemboRoadAddtl_Project",
   "parentLayerId": 110,
   "defaultVisibility": true,
   "subLayerIds": null,
   "minScale": 0,
   "maxScale": 0
  },
  {
   "id": 113,
   "name": "Water_Label_9K",
   "parentLayerId": 110,
   "defaultVisibility": true,
   "subLayerIds": null,
   "minScale": 0,
   "maxScale": 0
  },
  {
   "id": 114,
   "name": "metropolitan_manila_highway_",
   "parentLayerId": 110,
   "defaultVisibility": true,
   "subLayerIds": null,
   "minScale": 0,
   "maxScale": 0
  },
  {
   "id": 115,
   "name": "RoadCenterline_9K",
   "parentLayerId": 110,
   "defaultVisibility": true,
   "subLayerIds": null,
   "minScale": 0,
   "maxScale": 0
  },
  {
   "id": 116,
   "name": "RoadCenterline_LocalOutline_9K",
   "parentLayerId": 110,
   "defaultVisibility": true,
   "subLayerIds": null,
   "minScale": 0,
   "maxScale": 0
  },
  {
   "id": 117,
   "name": "Waterbody_9K",
   "parentLayerId": 110,
   "defaultVisibility": true,
   "subLayerIds": null,
   "minScale": 0,
   "maxScale": 0
  },
  {
   "id": 118,
   "name": "Level 14 - 25k",
   "parentLayerId": -1,
   "defaultVisibility": true,
   "subLayerIds": [
    119,
    120,
    121,
    122,
    123,
    124,
    125
   ],
   "minScale": 30000,
   "maxScale": 15001
  },
  {
   "id": 119,
   "name": "GolfRoads",
   "parentLayerId": 118,
   "defaultVisibility": true,
   "subLayerIds": null,
   "minScale": 0,
   "maxScale": 0
  },
  {
   "id": 120,
   "name": "PemboRoadAddtl_Project",
   "parentLayerId": 118,
   "defaultVisibility": true,
   "subLayerIds": null,
   "minScale": 0,
   "maxScale": 0
  },
  {
   "id": 121,
   "name": "Water_Label_9K",
   "parentLayerId": 118,
   "defaultVisibility": true,
   "subLayerIds": null,
   "minScale": 0,
   "maxScale": 0
  },
  {
   "id": 122,
   "name": "metropolitan_manila_highway_",
   "parentLayerId": 118,
   "defaultVisibility": true,
   "subLayerIds": null,
   "minScale": 0,
   "maxScale": 0
  },
  {
   "id": 123,
   "name": "RoadCenterline_9K",
   "parentLayerId": 118,
   "defaultVisibility": true,
   "subLayerIds": null,
   "minScale": 0,
   "maxScale": 0
  },
  {
   "id": 124,
   "name": "RoadCenterline_LocalOutline_9K",
   "parentLayerId": 118,
   "defaultVisibility": false,
   "subLayerIds": null,
   "minScale": 0,
   "maxScale": 0
  },
  {
   "id": 125,
   "name": "Waterbody_9K",
   "parentLayerId": 118,
   "defaultVisibility": true,
   "subLayerIds": null,
   "minScale": 0,
   "maxScale": 0
  },
  {
   "id": 126,
   "name": "CityBoundary",
   "parentLayerId": -1,
   "defaultVisibility": true,
   "subLayerIds": null,
   "minScale": 100000,
   "maxScale": 1000
  },
  {
   "id": 127,
   "name": "Makati",
   "parentLayerId": -1,
   "defaultVisibility": true,
   "subLayerIds": null,
   "minScale": 0,
   "maxScale": 0
  }
 ],
 "tables": [],
 "spatialReference": {
  "wkid": 102100,
  "latestWkid": 3857
 },
 "singleFusedMapCache": true,
 "tileInfo": {
  "rows": 256,
  "cols": 256,
  "dpi": 96,
  "format": "PNG32",
  "compressionQuality": 0,
  "origin": {
   "x": -2.0037508342787E7,
   "y": 2.0037508342787E7
  },
  "spatialReference": {
   "wkid": 102100,
   "latestWkid": 3857
  },
  "lods": [
   {
    "level": 0,
    "resolution": 15.875031750063501,
    "scale": 60000
   },
   {
    "level": 1,
    "resolution": 11.906273812547626,
    "scale": 45000
   },
   {
    "level": 2,
    "resolution": 9.260435187537043,
    "scale": 35000
   },
   {
    "level": 3,
    "resolution": 6.614596562526459,
    "scale": 25000
   },
   {
    "level": 4,
    "resolution": 3.9687579375158752,
    "scale": 15000
   },
   {
    "level": 5,
    "resolution": 2.381254762509525,
    "scale": 9000
   },
   {
    "level": 6,
    "resolution": 1.1906273812547625,
    "scale": 4500
   },
   {
    "level": 7,
    "resolution": 0.5291677250021167,
    "scale": 2000
   },
   {
    "level": 8,
    "resolution": 0.26458386250105836,
    "scale": 1000
   }
  ]
 },
 "initialExtent": {
  "xmin": 1.3466732973611953E7,
  "ymin": 1637445.4701152903,
  "xmax": 1.347991983331901E7,
