{
 "currentVersion": 10.22,
 "serviceDescription": "",
 "mapName": "Layers",
 "description": "",
 "copyrightText": "",
 "supportsDynamicLayers": false,
 "layers": [
  {
   "id": 0,
   "name": "Level 19 - 1K",
   "parentLayerId": -1,
   "defaultVisibility": true,
   "subLayerIds": [
    1,
    3,
    5,
    6,
    7,
    8,
    9,
    10,
    11,
    12,
    13,
    14,
    15,
    16
   ],
   "minScale": 1600,
   "maxScale": 50
  },
  {
   "id": 1,
   "name": "Landmark_Label_1KAnno",
   "parentLayerId": 0,
   "defaultVisibility": true,
   "subLayerIds": [
    2
   ],
   "minScale": 0,
   "maxScale": 0
  },
  {
   "id": 2,
   "name": "Landmarks",
   "parentLayerId": 1,
   "defaultVisibility": true,
   "subLayerIds": null,
   "minScale": 0,
   "maxScale": 0
  },
  {
   "id": 3,
   "name": "PointofInterest_Label_1KAnno",
   "parentLayerId": 0,
   "defaultVisibility": true,
   "subLayerIds": [
    4
   ],
   "minScale": 0,
   "maxScale": 0
  },
  {
   "id": 4,
   "name": "Point of Interest",
   "parentLayerId": 3,
   "defaultVisibility": true,
   "subLayerIds": null,
   "minScale": 0,
   "maxScale": 0
  },
  {
   "id": 5,
   "name": "Water_Label_1K",
   "parentLayerId": 0,
   "defaultVisibility": true,
   "subLayerIds": null,
   "minScale": 0,
   "maxScale": 0
  },
  {
   "id": 6,
   "name": "Neighborhood_Label_1K",
   "parentLayerId": 0,
   "defaultVisibility": true,
   "subLayerIds": null,
   "minScale": 0,
   "maxScale": 0
  },
  {
   "id": 7,
   "name": "Park_Label_1K",
   "parentLayerId": 0,
   "defaultVisibility": true,
   "subLayerIds": null,
   "minScale": 0,
   "maxScale": 0
  },
  {
   "id": 8,
   "name": "RoadCenterline_2K",
   "parentLayerId": 0,
   "defaultVisibility": true,
   "subLayerIds": null,
   "minScale": 0,
   "maxScale": 0
  },
  {
   "id": 9,
   "name": "RoadCenterline_LocalOutline_2K",
   "parentLayerId": 0,
   "defaultVisibility": true,
   "subLayerIds": null,
   "minScale": 0,
   "maxScale": 0
  },
  {
   "id": 10,
   "name": "metropolitan_manila_highway_",
   "parentLayerId": 0,
   "defaultVisibility": true,
   "subLayerIds": null,
   "minScale": 0,
   "maxScale": 0
  },
  {
   "id": 11,
   "name": "BGCBuildings",
   "parentLayerId": 0,
   "defaultVisibility": true,
   "subLayerIds": null,
   "minScale": 0,
   "maxScale": 0
  },
  {
   "id": 12,
   "name": "BuildingFootprint_1K",
   "parentLayerId": 0,
   "defaultVisibility": true,
   "subLayerIds": null,
   "minScale": 0,
   "maxScale": 0
  },
  {
   "id": 13,
   "name": "Rail_1K",
   "parentLayerId": 0,
   "defaultVisibility": true,
   "subLayerIds": null,
   "minScale": 0,
   "maxScale": 0
  },
  {
   "id": 14,
   "name": "AdministrativeBoundaryLine_1K",
   "parentLayerId": 0,
   "defaultVisibility": true,
   "subLayerIds": null,
   "minScale": 0,
   "maxScale": 0
  },
  {
   "id": 15,
   "name": "AdministrativeBoundaryLine_Ribbon_1K",
   "parentLayerId": 0,
   "defaultVisibility": true,
   "subLayerIds": null,
   "minScale": 0,
   "maxScale": 0
  },
  {
   "id": 16,
   "name": "Waterbody_1K",
   "parentLayerId": 0,
   "defaultVisibility": true,
   "subLayerIds": null,
   "minScale": 0,
   "maxScale": 0
  },
  {
   "id": 17,
   "name": "Level 18 - 2K",
   "parentLayerId": -1,
   "defaultVisibility": true,
   "subLayerIds": [
    18,
    20,
    22,
    25,
    26,
    27,
    35,
    36,
    37,
    38,
    39,
    40,
    41,
    42,
    43,
    44
   ],
   "minScale": 2500,
   "maxScale": 1601
  },
  {
   "id": 18,
   "name": "Landmark_Label_2KAnno",
   "parentLayerId": 17,
   "defaultVisibility": true,
   "subLayerIds": [
    19
   ],
   "minScale": 0,
   "maxScale": 0
  },
  {
   "id": 19,
   "name": "Landmarks",
   "parentLayerId": 18,
   "defaultVisibility": true,
   "subLayerIds": null,
   "minScale": 0,
   "maxScale": 0
  },
  {
   "id": 20,
   "name": "PointofInterest_Label_2KAnno",
   "parentLayerId": 17,
   "defaultVisibility": true,
   "subLayerIds": [
    21
   ],
   "minScale": 0,
   "maxScale": 0
  },
  {
   "id": 21,
   "name": "Point of Interest",
   "parentLayerId": 20,
   "defaultVisibility": true,
   "subLayerIds": null,
   "minScale": 0,
   "maxScale": 0
  },
  {
   "id": 22,
   "name": "Water_Label_2KAnno",
   "parentLayerId": 17,
   "defaultVisibility": true,
   "subLayerIds": [
    23,
    24
   ],
   "minScale": 0,
   "maxScale": 0
  },
  {
   "id": 23,
   "name": "Lake/Pond",
   "parentLayerId": 22,
   "defaultVisibility": true,
   "subLayerIds": null,
   "minScale": 0,
   "maxScale": 0
  },
  {
   "id": 24,
   "name": "Reservoir",
   "parentLayerId": 22,
   "defaultVisibility": true,
   "subLayerIds": null,
   "minScale": 0,
   "maxScale": 0
  },
  {
   "id": 25,
   "name": "Neighborhood_Label_2K",
   "parentLayerId": 17,
   "defaultVisibility": true,
   "subLayerIds": null,
   "minScale": 0,
   "maxScale": 0
  },
  {
   "id": 26,
   "name": "Park_Label_2K",
   "parentLayerId": 17,
   "defaultVisibility": true,
   "subLayerIds": null,
   "minScale": 0,
   "maxScale": 0
  },
  {
   "id": 27,
   "name": "RoadCenterline_2KAnno",
   "parentLayerId": 17,
   "defaultVisibility": true,
   "subLayerIds": [
    28,
    29,
    30,
    31,
    32,
    33,
    34
   ],
   "minScale": 0,
   "maxScale": 0
  },
  {
   "id": 28,
   "name": "LimitedAccess/Highway - Shield",
   "parentLayerId": 27,
   "defaultVisibility": true,
   "subLayerIds": null,
   "minScale": 0,
   "maxScale": 0
  },
  {
   "id": 29,
   "name": "MajorArterial - Shield",
   "parentLayerId": 27,
   "defaultVisibility": true,
   "subLayerIds": null,
   "minScale": 0,
   "maxScale": 0
  },
  {
   "id": 30,
   "name": "MinorArterial - Shield",
   "parentLayerId": 27,
   "defaultVisibility": true,
   "subLayerIds": null,
   "minScale": 0,
   "maxScale": 0
  },
  {
   "id": 31,
   "name": "MajorArterial - Fullname",
   "parentLayerId": 27,
   "defaultVisibility": true,
   "subLayerIds": null,
   "minScale": 0,
   "maxScale": 0
  },
  {
   "id": 32,
   "name": "MinorArterial - Fullname",
   "parentLayerId": 27,
   "defaultVisibility": true,
   "subLayerIds": null,
   "minScale": 0,
   "maxScale": 0
  },
  {
   "id": 33,
   "name": "Local - Fullname",
   "parentLayerId": 27,
   "defaultVisibility": true,
   "subLayerIds": null,
   "minScale": 0,
   "maxScale": 0
  },
  {
   "id": 34,
   "name": "LimitedAccess/Highway - E Road Shield",
   "parentLayerId": 27,
   "defaultVisibility": true,
   "subLayerIds": null,
   "minScale": 0,
   "maxScale": 0
  },
  {
   "id": 35,
   "name": "metropolitan_manila_highway_",
   "parentLayerId": 17,
   "defaultVisibility": true,
   "subLayerIds": null,
   "minScale": 0,
   "maxScale": 0
  },
  {
   "id": 36,
   "name": "RoadCenterline_2K",
   "parentLayerId": 17,
   "defaultVisibility": true,
   "subLayerIds": null,
   "minScale": 0,
   "maxScale": 0
  },
  {
   "id": 37,
   "name": "BGCBuildings",
   "parentLayerId": 17,
   "defaultVisibility": true,
   "subLayerIds": null,
   "minScale": 0,
   "maxScale": 0
  },
  {
   "id": 38,
   "name": "BuildingFootprint_2K",
   "parentLayerId": 17,
   "defaultVisibility": true,
   "subLayerIds": null,
   "minScale": 0,
   "maxScale": 0
  },
  {
   "id": 39,
   "name": "Rail_2K",
   "parentLayerId": 17,
   "defaultVisibility": true,
   "subLayerIds": null,
   "minScale": 0,
   "maxScale": 0
  },
  {
   "id": 40,
   "name": "AdministrativeBoundaryLine_2K",
   "parentLayerId": 17,
   "defaultVisibility": true,
   "subLayerIds": null,
   "minScale": 0,
   "maxScale": 0
  },
  {
   "id": 41,
   "name": "AdministrativeBoundaryLine_Ribbon_2K",
   "parentLayerId": 17,
   "defaultVisibility": true,
   "subLayerIds": null,
   "minScale": 0,
   "maxScale": 0
  },
  {
   "id": 42,
   "name": "Waterbody_2K",
   "parentLayerId": 17,
   "defaultVisibility": true,
   "subLayerIds": null,
   "minScale": 0,
   "maxScale": 0
  },
  {
   "id": 43,
   "name": "Waterline_2K",
   "parentLayerId": 17,
   "defaultVisibility": true,
   "subLayerIds": null,
   "minScale": 0,
   "maxScale": 0
  },
  {
   "id": 44,
   "name": "RoadCenterline_LocalOutline_2K",
   "parentLayerId": 17,
   "defaultVisibility": true,
   "subLayerIds": null,
   "minScale": 0,
   "maxScale": 0
  },
  {
   "id": 45,
   "name": "Level 17 - 4.5K",
   "parentLayerId": -1,
   "defaultVisibility": true,
   "subLayerIds": [
    46,
    48,
    49,
    50,
    51,
    52,
    53,
    54,
    55,
    56,
    57,
    58,
    59,
    60,
    61
   ],
   "minScale": 5000,
   "maxScale": 2501
  },
  {
   "id": 46,
   "name": "KAnno",
   "parentLayerId": 45,
   "defaultVisibility": true,
   "subLayerIds": [
    47
   ],
   "minScale": 0,
   "maxScale": 0
  },
  {
   "id": 47,
   "name": "Landmarks",
   "parentLayerId": 46,
   "defaultVisibility": true,
   "subLayerIds": null,
   "minScale": 0,
   "maxScale": 0
  },
  {
   "id": 48,
   "name": "PointofInterest_Label_4.5K",
   "parentLayerId": 45,
   "defaultVisibility": true,
   "subLayerIds": null,
   "minScale": 0,
   "maxScale": 0
  },
  {
   "id": 49,
   "name": "Water_Label_4.5K",
   "parentLayerId": 45,
   "defaultVisibility": true,
   "subLayerIds": null,
   "minScale": 0,
   "maxScale": 0
  },
  {
   "id": 50,
   "name": "Neighborhood_Label_4.5K",
   "parentLayerId": 45,
   "defaultVisibility": true,
   "subLayerIds": null,
   "minScale": 0,
   "maxScale": 0
  },
  {
   "id": 51,
   "name": "Park_Label_4.5K",
   "parentLayerId": 45,
   "defaultVisibility": true,
   "subLayerIds": null,
   "minScale": 0,
   "maxScale": 0
  },
  {
   "id": 52,
   "name": "metropolitan_manila_highway_",
   "parentLayerId": 45,
   "defaultVisibility": true,
   "subLayerIds": null,
   "minScale": 0,
   "maxScale": 0
  },
  {
   "id": 53,
   "name": "RoadCenterline_4.5K",
   "parentLayerId": 45,
   "defaultVisibility": true,
   "subLayerIds": null,
   "minScale": 0,
   "maxScale": 0
  },
  {
   "id": 54,
   "name": "BGCBuildings",
   "parentLayerId": 45,
   "defaultVisibility": true,
   "subLayerIds": null,
   "minScale": 0,
   "maxScale": 0
  },
  {
   "id": 55,
   "name": "BuildingFootprint_4.5K",
   "parentLayerId": 45,
   "defaultVisibility": true,
   "subLayerIds": null,
   "minScale": 0,
   "maxScale": 0
  },
  {
   "id": 56,
   "name": "BuildingFootprintDropShadow_4.5K",
   "parentLayerId": 45,
   "defaultVisibility": true,
   "subLayerIds": null,
   "minScale": 0,
   "maxScale": 0
  },
  {
   "id": 57,
   "name": "Rail_4.5K",
   "parentLayerId": 45,
   "defaultVisibility": true,
   "subLayerIds": null,
   "minScale": 0,
   "maxScale": 0
  },
  {
   "id": 58,
   "name": "AdministrativeBoundaryLine_4.5K",
   "parentLayerId": 45,
   "defaultVisibility": true,
   "subLayerIds": null,
   "minScale": 0,
   "maxScale": 0
  },
  {
   "id": 59,
   "name": "AdministrativeBoundaryLine_Ribbon_4.5K",
   "parentLayerId": 45,
   "defaultVisibility": true,
   "subLayerIds": null,
   "minScale": 0,
   "maxScale": 0
  },
  {
   "id": 60,
   "name": "Waterbody_4.5K",
   "parentLayerId": 45,
   "defaultVisibility": true,
   "subLayerIds": null,
   "minScale": 0,
   "maxScale": 0
  },
  {
   "id": 61,
   "name": "Waterline_4.5K",
   "parentLayerId": 45,
   "defaultVisibility": true,
   "subLayerIds": null,
   "minScale": 0,
   "maxScale": 0
  },
  {
   "id": 62,
   "name": "Level 16 - 9K",
   "parentLayerId": -1,
   "defaultVisibility": true,
   "subLayerIds": [
    63,
    65,
    68,
    76,
    77,
    78,
    79,
    80,
    81,
    82
   ],
   "minScale": 9001,
   "maxScale": 5001
  },
  {
   "id": 63,
   "name": "PointofInterest_Label_9KAnno",
   "parentLayerId": 62,
   "defaultVisibility": true,
   "subLayerIds": [
    64
   ],
   "minScale": 0,
   "maxScale": 0
  },
  {
   "id": 64,
   "name": "Point Of Interest",
   "parentLayerId": 63,
   "defaultVisibility": true,
   "subLayerIds": null,
   "minScale": 0,
   "maxScale": 0
  },
  {
   "id": 65,
   "name": "Water_Label_9KAnno",
   "parentLayerId": 62,
   "defaultVisibility": true,
   "subLayerIds": [
    66,
    67
   ],
   "minScale": 0,
   "maxScale": 0
  },
  {
   "id": 66,
   "name": "Lake/Pond",
   "parentLayerId": 65,
   "defaultVisibility": true,
   "subLayerIds": null,
   "minScale": 0,
   "maxScale": 0
  },
  {
   "id": 67,
   "name": "Reservoir",
   "parentLayerId": 65,
   "defaultVisibility": true,
   "subLayerIds": null,
   "minScale": 0,
   "maxScale": 0
  },
  {
   "id": 68,
   "name": "RoadCenterline_9KAnno",
   "parentLayerId": 62,
   "defaultVisibility": true,
   "subLayerIds": [
    69,
    70,
    71,
    72,
    73,
    74,
    75
   ],
   "minScale": 0,
   "maxScale": 0
  },
  {
   "id": 69,
   "name": "LimitedAccess/Highway - Shield",
   "parentLayerId": 68,
   "defaultVisibility": true,
   "subLayerIds": null,
   "minScale": 0,
   "maxScale": 0
  },
  {
   "id": 70,
   "name": "MajorArterial - Shield",
   "parentLayerId": 68,
   "defaultVisibility": true,
   "subLayerIds": null,
   "minScale": 0,
   "maxScale": 0
  },
  {
   "id": 71,
   "name": "MinorArterial - Shield",
   "parentLayerId": 68,
   "defaultVisibility": true,
   "subLayerIds": null,
   "minScale": 0,
   "maxScale": 0
  },
  {
   "id": 72,
   "name": "MajorArterial - Fullname",
   "parentLayerId": 68,
   "defaultVisibility": true,
   "subLayerIds": null,
   "minScale": 0,
   "maxScale": 0
  },
  {
   "id": 73,
   "name": "MinorArterial - Fullname",
   "parentLayerId": 68,
   "defaultVisibility": true,
   "subLayerIds": null,
   "minScale": 0,
   "maxScale": 0
  },
  {
   "id": 74,
   "name": "Local - Fullname",
   "parentLayerId": 68,
   "defaultVisibility": true,
   "subLayerIds": null,
   "minScale": 0,
   "maxScale": 0
  },
  {
   "id": 75,
   "name": "LimitedAccess/Highway - E Road Shield",
   "parentLayerId": 68,
   "defaultVisibility": true,
   "subLayerIds": null,
   "minScale": 0,
   "maxScale": 0
  },
  {
   "id": 76,
   "name": "metropolitan_manila_highway_",
   "parentLayerId": 62,
   "defaultVisibility": true,
   "subLayerIds": null,
   "minScale": 0,
   "maxScale": 0
  },
  {
   "id": 77,
   "name": "Rail_9K",
   "parentLayerId": 62,
   "defaultVisibility": true,
   "subLayerIds": null,
   "minScale": 0,
   "maxScale": 0
  },
  {
   "id": 78,
   "name": "RoadCenterline_9K",
   "parentLayerId": 62,
   "defaultVisibility": true,
   "subLayerIds": null,
   "minScale": 0,
   "maxScale": 0
  },
  {
   "id": 79,
   "name": "BGCBuildings",
   "parentLayerId": 62,
   "defaultVisibility": true,
   "subLayerIds": null,
   "minScale": 0,
   "maxScale": 0
  },
  {
   "id": 80,
   "name": "BuildingFootprint_9K",
   "parentLayerId": 62,
   "defaultVisibility": true,
   "subLayerIds": null,
   "minScale": 0,
   "maxScale": 0
  },
  {
   "id": 81,
   "name": "Waterbody_9K",
   "parentLayerId": 62,
   "defaultVisibility": true,
   "subLayerIds": null,
   "minScale": 0,
   "maxScale": 0
  },
  {
   "id": 82,
   "name": "Waterline_9K",
   "parentLayerId": 62,
   "defaultVisibility": true,
   "subLayerIds": null,
   "minScale": 0,
   "maxScale": 0
  },
  {
   "id": 83,
   "name": "Level 15 - 15k",
   "parentLayerId": -1,
   "defaultVisibility": true,
   "subLayerIds": [
    84,
    85,
    86,
    87,
    88
   ],
   "minScale": 15001,
   "maxScale": 9000
  },
  {
   "id": 84,
   "name": "Water_Label_9K",
   "parentLayerId": 83,
   "defaultVisibility": true,
   "subLayerIds": null,
   "minScale": 0,
   "maxScale": 0
  },
  {
   "id": 85,
   "name": "metropolitan_manila_highway_",
   "parentLayerId": 83,
   "defaultVisibility": true,
   "subLayerIds": null,
   "minScale": 0,
   "maxScale": 0
  },
  {
   "id": 86,
   "name": "RoadCenterline_9K",
   "parentLayerId": 83,
   "defaultVisibility": true,
   "subLayerIds": null,
   "minScale": 0,
   "maxScale": 0
  },
  {
   "id": 87,
   "name": "RoadCenterline_LocalOutline_9K",
   "parentLayerId": 83,
   "defaultVisibility": true,
   "subLayerIds": null,
   "minScale": 0,
   "maxScale": 0
  },
  {
   "id": 88,
   "name": "Waterbody_9K",
   "parentLayerId": 83,
   "defaultVisibility": true,
   "subLayerIds": null,
   "minScale": 0,
   "maxScale": 0
  },
  {
   "id": 89,
   "name": "Level 14 - 25k",
   "parentLayerId": -1,
   "defaultVisibility": true,
   "subLayerIds": [
    90,
    91,
    92,
    93,
    94
   ],
   "minScale": 30000,
   "maxScale": 15001
  },
  {
   "id": 90,
   "name": "Water_Label_9K",
   "parentLayerId": 89,
   "defaultVisibility": true,
   "subLayerIds": null,
   "minScale": 0,
   "maxScale": 0
  },
  {
   "id": 91,
   "name": "metropolitan_manila_highway_",
   "parentLayerId": 89,
   "defaultVisibility": true,
   "subLayerIds": null,
   "minScale": 0,
   "maxScale": 0
  },
  {
   "id": 92,
   "name": "RoadCenterline_9K",
   "parentLayerId": 89,
   "defaultVisibility": true,
   "subLayerIds": null,
   "minScale": 0,
   "maxScale": 0
  },
  {
   "id": 93,
   "name": "RoadCenterline_LocalOutline_9K",
   "parentLayerId": 89,
   "defaultVisibility": false,
   "subLayerIds": null,
   "minScale": 0,
   "maxScale": 0
  },
  {
   "id": 94,
   "name": "Waterbody_9K",
   "parentLayerId": 89,
   "defaultVisibility": true,
   "subLayerIds": null,
   "minScale": 0,
   "maxScale": 0
  },
  {
   "id": 95,
   "name": "Barangay Boundary",
   "parentLayerId": -1,
   "defaultVisibility": true,
   "subLayerIds": null,
   "minScale": 100000,
   "maxScale": 35000
  },
  {
   "id": 96,
   "name": "CityBoundary",
   "parentLayerId": -1,
   "defaultVisibility": true,
   "subLayerIds": null,
   "minScale": 100000,
   "maxScale": 1000
  },
  {
   "id": 97,
   "name": "Makati",
   "parentLayerId": -1,
   "defaultVisibility": true,
   "subLayerIds": null,
   "minScale": 0,
   "maxScale": 0
  }
 ],
 "tables": [],
 "spatialReference": {
  "wkid": 102100,
  "latestWkid": 3857
 },
 "singleFusedMapCache": true,
 "tileInfo": {
  "rows": 256,
  "cols": 256,
  "dpi": 96,
  "format": "PNG32",
  "compressionQuality": 0,
  "origin": {
   "x": -2.204125862706707E7,
   "y": 3.3265068604224823E7
  },
  "spatialReference": {
   "wkid": 102100,
   "latestWkid": 3857
  },
  "lods": [
   {
    "level": 0,
    "resolution": 9.260435187537043,
    "scale": 35000
   },
   {
    "level": 1,
    "resolution": 6.614596562526459,
    "scale": 25000
   },
   {
    "level": 2,
    "resolution": 3.9687579375158752,
    "scale": 15000
   },
   {
    "level": 3,
    "resolution": 2.381254762509525,
    "scale": 9000
   },
   {
    "level": 4,
    "resolution": 1.1906273812547625,
    "scale": 4500
   },
   {
    "level": 5,
    "resolution": 0.5291677250021167,
    "scale": 2000
   },
   {
    "level": 6,
    "resolution": 0.26458386250105836,
    "scale": 1000
   }
  ]
 },
 "initialExtent": {
  "xmin": 1.3466635620451296E7,
  "ymin": 1636015.04077621,
  "xmax": 1.3479387239704533E7,
  "ymax": 1642404.7410556092,
  "spatialReference": {
   "wkid": 102100,
   "latestWkid": 3857
  }
 },
 "fullExtent": {
  "xmin": -2.0037507842788246E7,
  "ymin": -3.024097145838617E7,
  "xmax": 2.0037507842788246E7,
  "ymax": 3.0240971458386205E7,
  "spatialReference": {
   "wkid": 102100,
   "latestWkid": 3857
  }
 },
 "minScale": 35000,
 "maxScale": 1000,
 "units": "esriMeters",
 "supportedImageFormatTypes": "PNG32,PNG24,PNG,JPG,DIB,TIFF,EMF,PS,PDF,GIF,SVG,SVGZ,BMP",
 "documentInfo": {
  "Title": "",
  "Author": "",
  "Comments": "",
  "Subject": "",
  "Category": "",
  "AntialiasingMode": "None",
  "TextAntialiasingMode": "Force",
  "Keywords": ""
 },
 "capabilities": "Map,Query,Data",
 "supportedQueryFormats": "JSON, AMF",
 "exportTilesAllowed": false,
 "maxRecordCount": 1000,
 "maxImageHeight": 4096,
 "maxImageWidth": 4096,
 "supportedExtensions": "KmlServer"
}
